BEGIN:VCALENDAR
VERSION:2.0
PRODID:spatie/icalendar-generator
DESCRIPTION:Events from Southwest Florida Business Today
X-WR-CALDESC:Events from Southwest Florida Business Today
REFRESH-INTERVAL;VALUE=DURATION:PT1440M
X-PUBLISHED-TTL:PT1440M
BEGIN:VTIMEZONE
TZID:America/New_York
BEGIN:STANDARD
DTSTART:20251102T020000Z
TZOFFSETFROM:-0400
TZOFFSETTO:-0500
END:STANDARD
BEGIN:DAYLIGHT
DTSTART:20260308T020000Z
TZOFFSETFROM:-0500
TZOFFSETTO:-0400
END:DAYLIGHT
BEGIN:STANDARD
DTSTART:20261101T020000Z
TZOFFSETFROM:-0400
TZOFFSETTO:-0500
END:STANDARD
END:VTIMEZONE
BEGIN:VTIMEZONE
TZID:UTC
BEGIN:STANDARD
DTSTART:20250725T201258Z
TZOFFSETFROM:+0000
TZOFFSETTO:+0000
END:STANDARD
END:VTIMEZONE
BEGIN:VEVENT
UID:1035-1035
DTSTAMP:20260421T201258Z
SUMMARY:NFM –  Breakfast Networking w/the North Fort Myers Chamber
LOCATION:
ORGANIZER;CN=Public Submitter:MAILTO:
DTSTART;TZID=America/New_York:20260701T073000
DTEND;TZID=America/New_York:20260701T083000
X-ALT-DESC;FMTTYPE=TEXT/HTML:North Fort Myers Chamber of Commerce Breakfast
  Networking at Perkin’s Restaurant and Bakery the FIRST Wednesday of eve
 ry month\, 13620 N. Cleveland Avenue\, NFM Impact your 1st week of the mon
 th and enjoy Breakfast\, Networking and More! No Entrance Fee. Breakfast o
 ptional. Exchange Business cards. Present your Best 30 second commercial
 ….Win a prize!!.
CATEGORIES:General
URL;VALUE=URI:https://swfloridabusinesstoday.com/mc-events/nfm-breakfast-ne
 tworking-w-the-north-fort-myers-chamber-59/
METHOD:PUBLISH
END:VEVENT
END:VCALENDAR