BEGIN:VCALENDAR
VERSION:2.0
PRODID:spatie/icalendar-generator
DESCRIPTION:Events from Southwest Florida Business Today
X-WR-CALDESC:Events from Southwest Florida Business Today
REFRESH-INTERVAL;VALUE=DURATION:PT1440M
X-PUBLISHED-TTL:PT1440M
BEGIN:VTIMEZONE
TZID:America/New_York
BEGIN:DAYLIGHT
DTSTART:20250309T020000Z
TZOFFSETFROM:-0500
TZOFFSETTO:-0400
END:DAYLIGHT
BEGIN:STANDARD
DTSTART:20251102T020000Z
TZOFFSETFROM:-0400
TZOFFSETTO:-0500
END:STANDARD
END:VTIMEZONE
BEGIN:VTIMEZONE
TZID:UTC
BEGIN:STANDARD
DTSTART:20250725T235434Z
TZOFFSETFROM:+0000
TZOFFSETTO:+0000
END:STANDARD
END:VTIMEZONE
BEGIN:VEVENT
UID:1543-1321
DTSTAMP:20260421T235434Z
SUMMARY:MISSION: POSSIBLE: Strategies for Nonprofit Success
LOCATION:Hilton Naples @ 5111 Tamiami Trail N Naples\, FL 34103
ORGANIZER;CN=Jacob Ogles:MAILTO:jacobogles@hotmail.com
DTSTART;TZID=America/New_York:20250812T080000
DTEND;TZID=America/New_York:20250812T163000
X-ALT-DESC;FMTTYPE=TEXT/HTML:The Above Board Chamber of Florida is proud to
  present MISSION: POSSIBLE: Strategies for Nonprofit Success\, a full-day 
 summit designed to equip nonprofit professionals with innovative\, out-of-
 the-box solutions to tackle real-world challenges. Taking place Tuesday\, 
 August 12\, at the Naples Hilton from 8 am – 4:30 pm\, this dynamic even
 t will bring together leading voices&amp;hellip\;
CATEGORIES:Community
URL;VALUE=URI:https://swfloridabusinesstoday.com/mc-events/mission-possible
 -strategies-for-nonprofit-success/
METHOD:PUBLISH
END:VEVENT
END:VCALENDAR