BEGIN:VCALENDAR
VERSION:2.0
PRODID:spatie/icalendar-generator
DESCRIPTION:Events from Southwest Florida Business Today
X-WR-CALDESC:Events from Southwest Florida Business Today
REFRESH-INTERVAL;VALUE=DURATION:PT1440M
X-PUBLISHED-TTL:PT1440M
BEGIN:VTIMEZONE
TZID:America/New_York
BEGIN:DAYLIGHT
DTSTART:20250309T020000Z
TZOFFSETFROM:-0500
TZOFFSETTO:-0400
END:DAYLIGHT
BEGIN:STANDARD
DTSTART:20251102T020000Z
TZOFFSETFROM:-0400
TZOFFSETTO:-0500
END:STANDARD
END:VTIMEZONE
BEGIN:VTIMEZONE
TZID:UTC
BEGIN:STANDARD
DTSTART:20250725T170343Z
TZOFFSETFROM:+0000
TZOFFSETTO:+0000
END:STANDARD
END:VTIMEZONE
BEGIN:VEVENT
UID:1568-1346
DTSTAMP:20260421T170343Z
SUMMARY:Hurricane Preparedness in the Construction Industry
LOCATION:The New Crowne Plaza Ft. Myers @ 9931 Interstate Commerce Drive Fo
 rt Myers\, FL 33913
ORGANIZER;CN=Jacob Ogles:MAILTO:jacobogles@hotmail.com
DTSTART;TZID=America/New_York:20250815T113000
DTEND;TZID=America/New_York:20250815T123000
X-ALT-DESC;FMTTYPE=TEXT/HTML:Manhattan Construction Company\, a nationally 
 recognized builder with deep roots in Southwest Florida\, is excited to an
 nounce it will host an educational workshop focused on hurricane preparedn
 ess in the construction industry on Friday\, Aug. 15\, at the Crowne Plaza
  Ft. Myers Gulf Coast\, 9931 Interstate Commerce Drive in Fort Myers. The 
 free event\, which is&amp;hellip\;
CATEGORIES:Community
URL;VALUE=URI:https://swfloridabusinesstoday.com/mc-events/hurricane-prepar
 edness-in-the-construction-industry/
METHOD:PUBLISH
END:VEVENT
END:VCALENDAR