BEGIN:VCALENDAR
VERSION:2.0
PRODID:spatie/icalendar-generator
DESCRIPTION:Events from Southwest Florida Business Today
X-WR-CALDESC:Events from Southwest Florida Business Today
REFRESH-INTERVAL;VALUE=DURATION:PT1440M
X-PUBLISHED-TTL:PT1440M
BEGIN:VTIMEZONE
TZID:America/New_York
BEGIN:STANDARD
DTSTART:20251102T020000Z
TZOFFSETFROM:-0400
TZOFFSETTO:-0500
END:STANDARD
BEGIN:DAYLIGHT
DTSTART:20260308T020000Z
TZOFFSETFROM:-0500
TZOFFSETTO:-0400
END:DAYLIGHT
END:VTIMEZONE
BEGIN:VTIMEZONE
TZID:UTC
BEGIN:STANDARD
DTSTART:20250725T190443Z
TZOFFSETFROM:+0000
TZOFFSETTO:+0000
END:STANDARD
END:VTIMEZONE
BEGIN:VEVENT
UID:1805-1562
DTSTAMP:20260421T190443Z
SUMMARY:Horizon Council General Membership Meeting
LOCATION:Florida South Western State College - Building U @ 13351 FSW Pkwy 
 Fort Myers\, FL 33919
ORGANIZER;CN=Jacob Ogles:MAILTO:jacobogles@hotmail.com
DTSTART;TZID=America/New_York:20260327T081500
DTEND;TZID=America/New_York:20260327T094500
X-ALT-DESC;FMTTYPE=TEXT/HTML:The Horizon Council is a public-private board 
 established in 1991 to advise the Lee County Board of Commissioners on eco
 nomic development issues and provides vision\, guidance and support to the
  Lee County Economic Development Office (EDO) in its mission to: Help impr
 ove the business environment in Lee County Retain and encourage the expans
 ion of existing&amp;hellip\;
CATEGORIES:Community
URL;VALUE=URI:https://swfloridabusinesstoday.com/mc-events/horizon-council-
 general-membership-meeting-3/
METHOD:PUBLISH
END:VEVENT
END:VCALENDAR