BEGIN:VCALENDAR
VERSION:2.0
PRODID:spatie/icalendar-generator
DESCRIPTION:Events from Southwest Florida Business Today
X-WR-CALDESC:Events from Southwest Florida Business Today
REFRESH-INTERVAL;VALUE=DURATION:PT1440M
X-PUBLISHED-TTL:PT1440M
BEGIN:VTIMEZONE
TZID:America/New_York
BEGIN:STANDARD
DTSTART:20251102T020000Z
TZOFFSETFROM:-0400
TZOFFSETTO:-0500
END:STANDARD
BEGIN:DAYLIGHT
DTSTART:20260308T020000Z
TZOFFSETFROM:-0500
TZOFFSETTO:-0400
END:DAYLIGHT
END:VTIMEZONE
BEGIN:VTIMEZONE
TZID:UTC
BEGIN:STANDARD
DTSTART:20250725T172850Z
TZOFFSETFROM:+0000
TZOFFSETTO:+0000
END:STANDARD
END:VTIMEZONE
BEGIN:VEVENT
UID:1808-1565
DTSTAMP:20260421T172850Z
SUMMARY:Builders Care BBQ\, Bands &amp;amp\; Brew
LOCATION:
ORGANIZER;CN=Jacob Ogles:MAILTO:jacobogles@hotmail.com
DTSTART;TZID=America/New_York:20260328T110000
DTEND;TZID=America/New_York:20260328T180000
X-ALT-DESC;FMTTYPE=TEXT/HTML:Lee BIA Builders Care’s 15th annual BBQ\, Ba
 nds &amp;amp\; Brew fundraiser returns March 28 at Caloosa Sound Amphitheater 
 in downtown Fort Myers. The event will feature barbecue competitions among
  local pitmasters\, live music\, vendors and family-friendly activities. P
 roceeds support Builders Care’s mission to provide emergency constructio
 n services at no cost to elderly or disabled homeowners&amp;hellip\;
CATEGORIES:Community
URL;VALUE=URI:https://swfloridabusinesstoday.com/mc-events/builders-care-bb
 q-bands-brew/
METHOD:PUBLISH
END:VEVENT
END:VCALENDAR