BEGIN:VCALENDAR
VERSION:2.0
PRODID:spatie/icalendar-generator
DESCRIPTION:Events from Southwest Florida Business Today
X-WR-CALDESC:Events from Southwest Florida Business Today
REFRESH-INTERVAL;VALUE=DURATION:PT1440M
X-PUBLISHED-TTL:PT1440M
BEGIN:VTIMEZONE
TZID:America/New_York
BEGIN:STANDARD
DTSTART:20251102T020000Z
TZOFFSETFROM:-0400
TZOFFSETTO:-0500
END:STANDARD
BEGIN:DAYLIGHT
DTSTART:20260308T020000Z
TZOFFSETFROM:-0500
TZOFFSETTO:-0400
END:DAYLIGHT
END:VTIMEZONE
BEGIN:VTIMEZONE
TZID:UTC
BEGIN:STANDARD
DTSTART:20250725T150225Z
TZOFFSETFROM:+0000
TZOFFSETTO:+0000
END:STANDARD
END:VTIMEZONE
BEGIN:VEVENT
UID:1813-1570
DTSTAMP:20260421T150225Z
SUMMARY:Babcock Ranch Chamber: Chamber Chat
LOCATION:
ORGANIZER;CN=Jacob Ogles:MAILTO:jacobogles@hotmail.com
DTSTART;TZID=America/New_York:20260401T080000
DTEND;TZID=America/New_York:20260401T090000
X-ALT-DESC;FMTTYPE=TEXT/HTML:Join us for a Chamber Chat hosted at the local
  high school\, featuring an overview of their student-in-business program
 . This conversation will highlight how students are gaining real-world bus
 iness experience and how the program supports workforce development and fu
 ture talent in our community. Location: 43261 Cypress Parkway Punta Gorda\
 , FL 33982 Register &amp;nbsp\;
CATEGORIES:Community
URL;VALUE=URI:https://swfloridabusinesstoday.com/mc-events/babcock-ranch-ch
 amber-chamber-chat/
METHOD:PUBLISH
END:VEVENT
END:VCALENDAR