BEGIN:VCALENDAR
VERSION:2.0
PRODID:spatie/icalendar-generator
DESCRIPTION:Events from Southwest Florida Business Today
X-WR-CALDESC:Events from Southwest Florida Business Today
REFRESH-INTERVAL;VALUE=DURATION:PT1440M
X-PUBLISHED-TTL:PT1440M
BEGIN:VTIMEZONE
TZID:America/New_York
BEGIN:STANDARD
DTSTART:20251102T020000Z
TZOFFSETFROM:-0400
TZOFFSETTO:-0500
END:STANDARD
BEGIN:DAYLIGHT
DTSTART:20260308T020000Z
TZOFFSETFROM:-0500
TZOFFSETTO:-0400
END:DAYLIGHT
END:VTIMEZONE
BEGIN:VTIMEZONE
TZID:UTC
BEGIN:STANDARD
DTSTART:20250725T150745Z
TZOFFSETFROM:+0000
TZOFFSETTO:+0000
END:STANDARD
END:VTIMEZONE
BEGIN:VEVENT
UID:1825-1582
DTSTAMP:20260421T150745Z
SUMMARY:SanCap Chamber Annual Meeting
LOCATION:
ORGANIZER;CN=Jacob Ogles:MAILTO:jacobogles@hotmail.com
DTSTART;TZID=America/New_York:20260403T110000
DTEND;TZID=America/New_York:20260403T130000
X-ALT-DESC;FMTTYPE=TEXT/HTML:Keynote speaker Bryan Griffin\, new president 
 and chief executive officer of VISIT FLORIDA\; the introduction of the boa
 rd of directors for 2026\; an overview of 2025-2026 achievements\; and the
  presentation of annual membership awards headline the SanCap Chamber annu
 al meeting luncheon on Wednesday\, April 8. It takes place 11 a.m. to 1 p.
 m. at Sanibel&amp;hellip\;
CATEGORIES:Community
URL;VALUE=URI:https://swfloridabusinesstoday.com/mc-events/sancap-chamber-a
 nnual-meeting/
METHOD:PUBLISH
END:VEVENT
END:VCALENDAR