BEGIN:VCALENDAR
VERSION:2.0
PRODID:spatie/icalendar-generator
DESCRIPTION:Events from Southwest Florida Business Today
X-WR-CALDESC:Events from Southwest Florida Business Today
REFRESH-INTERVAL;VALUE=DURATION:PT1440M
X-PUBLISHED-TTL:PT1440M
BEGIN:VTIMEZONE
TZID:America/New_York
BEGIN:STANDARD
DTSTART:20251102T020000Z
TZOFFSETFROM:-0400
TZOFFSETTO:-0500
END:STANDARD
BEGIN:DAYLIGHT
DTSTART:20260308T020000Z
TZOFFSETFROM:-0500
TZOFFSETTO:-0400
END:DAYLIGHT
END:VTIMEZONE
BEGIN:VTIMEZONE
TZID:UTC
BEGIN:STANDARD
DTSTART:20250725T150150Z
TZOFFSETFROM:+0000
TZOFFSETTO:+0000
END:STANDARD
END:VTIMEZONE
BEGIN:VEVENT
UID:1842-1599
DTSTAMP:20260421T150150Z
SUMMARY:Building Board of Adjustments and Appeals
LOCATION:Conference Room 609/610 of the Growth Management Community Develo
 pment Department building @ 2800 N. Horseshoe Drive\, Naples\, Florida
ORGANIZER;CN=Jacob Ogles:MAILTO:jacobogles@hotmail.com
DTSTART;TZID=America/New_York:20260424T090000
DTEND;TZID=America/New_York:20260424T100000
X-ALT-DESC;FMTTYPE=TEXT/HTML:The Collier County Building Board of Adjustmen
 ts and Appeals will meet on Friday\, April 24\, at 9:00 a.m. in Confe
 rence Room 609/610 of the Growth Management Community Development Departm
 ent building\, 2800 N. Horseshoe Drive\, Naples\, Florida. Individuals who
  would like to participate in person must complete and submit a speaker fo
 rm before the beginning of the discussion about the item.
CATEGORIES:Community
URL;VALUE=URI:https://swfloridabusinesstoday.com/mc-events/building-board-o
 f-adjustments-and-appeals-2/
METHOD:PUBLISH
END:VEVENT
END:VCALENDAR