BEGIN:VCALENDAR
VERSION:2.0
PRODID:spatie/icalendar-generator
DESCRIPTION:Events from Southwest Florida Business Today
X-WR-CALDESC:Events from Southwest Florida Business Today
REFRESH-INTERVAL;VALUE=DURATION:PT1440M
X-PUBLISHED-TTL:PT1440M
BEGIN:VTIMEZONE
TZID:America/New_York
BEGIN:STANDARD
DTSTART:20251102T020000Z
TZOFFSETFROM:-0400
TZOFFSETTO:-0500
END:STANDARD
BEGIN:DAYLIGHT
DTSTART:20260308T020000Z
TZOFFSETFROM:-0500
TZOFFSETTO:-0400
END:DAYLIGHT
END:VTIMEZONE
BEGIN:VTIMEZONE
TZID:UTC
BEGIN:STANDARD
DTSTART:20250725T152832Z
TZOFFSETFROM:+0000
TZOFFSETTO:+0000
END:STANDARD
END:VTIMEZONE
BEGIN:VEVENT
UID:1845-1602
DTSTAMP:20260421T152832Z
SUMMARY:Collier County Hearing Examiner
LOCATION:Conference Room 609/610 of the Growth Management Community Develo
 pment Department building @ 2800 N. Horseshoe Drive\, Naples\, Florida
ORGANIZER;CN=Jacob Ogles:MAILTO:jacobogles@hotmail.com
DTSTART;TZID=America/New_York:20260423T130000
DTEND;TZID=America/New_York:20260423T140000
X-ALT-DESC;FMTTYPE=TEXT/HTML:The Collier County Hearing Examiner will mee
 t on Thursday\, April 23\, at 1 p.m. This Hybrid Remote meeting will be
  held in Conference Room 609/610 of the Growth Management Community Deve
 lopment Department building\, 2800 N. Horseshoe Drive\, Naples\, Florida. 
 The public may attend either remotely or in person. The agenda will be ava
 ilable on the Collier County Government website at https://colliercofl.po
 rtal.civicclerk.com/. Individuals who&amp;hellip\;
CATEGORIES:Community
URL;VALUE=URI:https://swfloridabusinesstoday.com/mc-events/collier-county-h
 earing-examiner-17/
METHOD:PUBLISH
END:VEVENT
END:VCALENDAR