BEGIN:VCALENDAR
VERSION:2.0
PRODID:spatie/icalendar-generator
DESCRIPTION:Events from Southwest Florida Business Today
X-WR-CALDESC:Events from Southwest Florida Business Today
REFRESH-INTERVAL;VALUE=DURATION:PT1440M
X-PUBLISHED-TTL:PT1440M
BEGIN:VTIMEZONE
TZID:America/New_York
BEGIN:DAYLIGHT
DTSTART:20250309T020000Z
TZOFFSETFROM:-0500
TZOFFSETTO:-0400
END:DAYLIGHT
BEGIN:STANDARD
DTSTART:20251102T020000Z
TZOFFSETFROM:-0400
TZOFFSETTO:-0500
END:STANDARD
END:VTIMEZONE
BEGIN:VTIMEZONE
TZID:UTC
BEGIN:STANDARD
DTSTART:20250725T234754Z
TZOFFSETFROM:+0000
TZOFFSETTO:+0000
END:STANDARD
END:VTIMEZONE
BEGIN:VEVENT
UID:1549-1327
DTSTAMP:20260421T234754Z
SUMMARY:Immokalee Community Redevelopment Advisory Board
LOCATION:
ORGANIZER;CN=Jacob Ogles:MAILTO:jacobogles@hotmail.com
DTSTART;TZID=America/New_York:20250812T090000
DTEND;TZID=America/New_York:20250812T100000
X-ALT-DESC;FMTTYPE=TEXT/HTML:The Immokalee Community Redevelopment Advisor
 y Board will meet at Zocalo Park\, 107 North 1st Street\, Immokalee\, Fl
 orida\, on Monday\, August 12\, at 9 a.m. for the walking tour of Main 
 Street. The walking tour of Main Street is from 1st Street through 9th S
 treet and the tour of 1st Street is from Main Street to Carver Street wit
 hin the MSTU District. Board members and&amp;hellip\;
CATEGORIES:Community
URL;VALUE=URI:https://swfloridabusinesstoday.com/mc-events/immokalee-commun
 ity-redevelopment-advisory-board/
METHOD:PUBLISH
END:VEVENT
END:VCALENDAR