BEGIN:VCALENDAR
VERSION:2.0
PRODID:spatie/icalendar-generator
DESCRIPTION:Events from Southwest Florida Business Today
X-WR-CALDESC:Events from Southwest Florida Business Today
REFRESH-INTERVAL;VALUE=DURATION:PT1440M
X-PUBLISHED-TTL:PT1440M
BEGIN:VTIMEZONE
TZID:America/New_York
BEGIN:DAYLIGHT
DTSTART:20250309T020000Z
TZOFFSETFROM:-0500
TZOFFSETTO:-0400
END:DAYLIGHT
BEGIN:STANDARD
DTSTART:20251102T020000Z
TZOFFSETFROM:-0400
TZOFFSETTO:-0500
END:STANDARD
END:VTIMEZONE
BEGIN:VTIMEZONE
TZID:UTC
BEGIN:STANDARD
DTSTART:20250725T165740Z
TZOFFSETFROM:+0000
TZOFFSETTO:+0000
END:STANDARD
END:VTIMEZONE
BEGIN:VEVENT
UID:1555-1333
DTSTAMP:20260421T165740Z
SUMMARY:Leadership Program Kickoff
LOCATION:
ORGANIZER;CN=Jacob Ogles:MAILTO:jacobogles@hotmail.com
DTSTART;TZID=America/New_York:20250819T180000
DTEND;TZID=America/New_York:20250819T193000
X-ALT-DESC;FMTTYPE=TEXT/HTML:Join us on August 19th from 6-7:30pm for an ex
 citing evening as we welcome the Leadership Class of 2025 and reconnect wi
 th past leadership alumni! This special event marks the beginning of an in
 spiring journey for our new class\, and we invite everyone to come togethe
 r\, share stories\, and make valuable connections. Whether you're a&amp;hellip
 \;
CATEGORIES:Community
URL;VALUE=URI:https://swfloridabusinesstoday.com/mc-events/leadership-progr
 am-kickoff/
METHOD:PUBLISH
END:VEVENT
END:VCALENDAR