BEGIN:VCALENDAR
VERSION:2.0
PRODID:spatie/icalendar-generator
DESCRIPTION:Events from Southwest Florida Business Today
X-WR-CALDESC:Events from Southwest Florida Business Today
REFRESH-INTERVAL;VALUE=DURATION:PT1440M
X-PUBLISHED-TTL:PT1440M
BEGIN:VTIMEZONE
TZID:America/New_York
BEGIN:DAYLIGHT
DTSTART:20250309T020000Z
TZOFFSETFROM:-0500
TZOFFSETTO:-0400
END:DAYLIGHT
BEGIN:STANDARD
DTSTART:20251102T020000Z
TZOFFSETFROM:-0400
TZOFFSETTO:-0500
END:STANDARD
END:VTIMEZONE
BEGIN:VTIMEZONE
TZID:UTC
BEGIN:STANDARD
DTSTART:20250725T183214Z
TZOFFSETFROM:+0000
TZOFFSETTO:+0000
END:STANDARD
END:VTIMEZONE
BEGIN:VEVENT
UID:1570-1348
DTSTAMP:20260421T183214Z
SUMMARY:Lee Board of County Commissioners
LOCATION: Old Lee County Courthouse Commission Chambers @ 2120 Main Street
  Fort Myers\, FL 33901
ORGANIZER;CN=Jacob Ogles:MAILTO:jacobogles@hotmail.com
DTSTART;TZID=America/New_York:20250819T093000
DTEND;TZID=America/New_York:20250819T103000
X-ALT-DESC;FMTTYPE=TEXT/HTML:The Lee Board of County Commissioners will mee
 t at 9:30 a.m. Tuesday\, Aug. 19\, in the Old County Courthouse Commiss
 ion Chambers at 2120 Main Street Fort Myers\, FL 33901. The agenda is ava
 ilable to the public in advance of the meeting by clicking here. If you a
 re unable to attend the meeting but would like to comment on an agenda&amp;hel
 lip\;
CATEGORIES:Community
URL;VALUE=URI:https://swfloridabusinesstoday.com/mc-events/lee-board-of-cou
 nty-commissioners-2/
METHOD:PUBLISH
END:VEVENT
END:VCALENDAR