BEGIN:VCALENDAR
VERSION:2.0
PRODID:spatie/icalendar-generator
DESCRIPTION:Events from Southwest Florida Business Today
X-WR-CALDESC:Events from Southwest Florida Business Today
REFRESH-INTERVAL;VALUE=DURATION:PT1440M
X-PUBLISHED-TTL:PT1440M
BEGIN:VTIMEZONE
TZID:America/New_York
BEGIN:STANDARD
DTSTART:20251102T020000Z
TZOFFSETFROM:-0400
TZOFFSETTO:-0500
END:STANDARD
BEGIN:DAYLIGHT
DTSTART:20260308T020000Z
TZOFFSETFROM:-0500
TZOFFSETTO:-0400
END:DAYLIGHT
END:VTIMEZONE
BEGIN:VTIMEZONE
TZID:UTC
BEGIN:STANDARD
DTSTART:20250725T113711Z
TZOFFSETFROM:+0000
TZOFFSETTO:+0000
END:STANDARD
END:VTIMEZONE
BEGIN:VEVENT
UID:1827-1584
DTSTAMP:20260421T113711Z
SUMMARY:City of Fort Myers Midtown Presentation
LOCATION:
ORGANIZER;CN=Jacob Ogles:MAILTO:jacobogles@hotmail.com
DTSTART;TZID=America/New_York:20260402T173000
DTEND;TZID=America/New_York:20260402T183000
X-ALT-DESC;FMTTYPE=TEXT/HTML:The public is invited to learn more about the 
 future of Midtown at an interactive\, workshop-style open house where comm
 unity members can share ideas to help shape its built environment. Dover\,
  Kohl &amp;amp\; Partners is working with the city to update and develop archi
 tectural and design standards to revitalize the area\, and the public is&amp;h
 ellip\;
CATEGORIES:Community
URL;VALUE=URI:https://swfloridabusinesstoday.com/mc-events/city-of-fort-mye
 rs-midtown-presentation/
METHOD:PUBLISH
END:VEVENT
END:VCALENDAR