BEGIN:VCALENDAR
VERSION:2.0
PRODID:spatie/icalendar-generator
DESCRIPTION:Events from Southwest Florida Business Today
X-WR-CALDESC:Events from Southwest Florida Business Today
REFRESH-INTERVAL;VALUE=DURATION:PT1440M
X-PUBLISHED-TTL:PT1440M
BEGIN:VTIMEZONE
TZID:America/New_York
BEGIN:STANDARD
DTSTART:20251102T020000Z
TZOFFSETFROM:-0400
TZOFFSETTO:-0500
END:STANDARD
BEGIN:DAYLIGHT
DTSTART:20260308T020000Z
TZOFFSETFROM:-0500
TZOFFSETTO:-0400
END:DAYLIGHT
END:VTIMEZONE
BEGIN:VTIMEZONE
TZID:UTC
BEGIN:STANDARD
DTSTART:20250725T113548Z
TZOFFSETFROM:+0000
TZOFFSETTO:+0000
END:STANDARD
END:VTIMEZONE
BEGIN:VEVENT
UID:1843-1600
DTSTAMP:20260421T113548Z
SUMMARY:Rural Golden Gate Estates Restudy Advisory Committee
LOCATION:
ORGANIZER;CN=Jacob Ogles:MAILTO:jacobogles@hotmail.com
DTSTART;TZID=America/New_York:20260422T180000
DTEND;TZID=America/New_York:20260422T190000
X-ALT-DESC;FMTTYPE=TEXT/HTML:The Rural Golden Gate Estates Restudy Advisor
 y Committee will hold a meeting on Wednesday\, April 22\, at 6 p.m. Th
 is will be a Hybrid Remote meeting at the Max A. Hasse Jr. Community Park
 \, located at 3390 Golden Gate Boulevard W.\, Naples\, Florida. The public
  may attend either remotely or in person. Individuals who would like to pa
 rticipate remotely should register&amp;hellip\;
CATEGORIES:Community
URL;VALUE=URI:https://swfloridabusinesstoday.com/mc-events/rural-golden-gat
 e-estates-restudy-advisory-committee/
METHOD:PUBLISH
END:VEVENT
END:VCALENDAR