BEGIN:VCALENDAR
VERSION:2.0
PRODID:spatie/icalendar-generator
DESCRIPTION:Events from Southwest Florida Business Today
X-WR-CALDESC:Events from Southwest Florida Business Today
REFRESH-INTERVAL;VALUE=DURATION:PT1440M
X-PUBLISHED-TTL:PT1440M
BEGIN:VTIMEZONE
TZID:America/New_York
BEGIN:STANDARD
DTSTART:20251102T020000Z
TZOFFSETFROM:-0400
TZOFFSETTO:-0500
END:STANDARD
BEGIN:DAYLIGHT
DTSTART:20260308T020000Z
TZOFFSETFROM:-0500
TZOFFSETTO:-0400
END:DAYLIGHT
BEGIN:STANDARD
DTSTART:20261101T020000Z
TZOFFSETFROM:-0400
TZOFFSETTO:-0500
END:STANDARD
END:VTIMEZONE
BEGIN:VTIMEZONE
TZID:UTC
BEGIN:STANDARD
DTSTART:20250726T013128Z
TZOFFSETFROM:+0000
TZOFFSETTO:+0000
END:STANDARD
END:VTIMEZONE
BEGIN:VEVENT
UID:976-976
DTSTAMP:20260422T013128Z
SUMMARY:FM – Breakfast Networking w/the North Fort Myers Chamber
LOCATION:
ORGANIZER;CN=Public Submitter:MAILTO:
DTSTART;TZID=America/New_York:20260701T073000
DTEND;TZID=America/New_York:20260701T083000
X-ALT-DESC;FMTTYPE=TEXT/HTML:Impact your 1st week of the month and enjoy Br
 eakfast\, Networking and More! No Entrance Fee. Breakfast optional. Exchan
 ge Business cards. Present your Best 30-second commercial….Win a prize!!
 . A Business of the Month Marketing Table available for $50.00 (Members) O
 nly one business will be featured…Contact Chris Jackson at Chris@nfmcha
 mber.org or call (239) 997-9111 for details.
CATEGORIES:General
URL;VALUE=URI:https://swfloridabusinesstoday.com/mc-events/fm-breakfast-net
 working-w-the-north-fort-myers-chamber-59/
METHOD:PUBLISH
END:VEVENT
END:VCALENDAR